BEGIN:VCALENDAR
VERSION:2.0
PRODID:-//wp-events-plugin.com//7.2.3.1//EN
BEGIN:VEVENT
UID:902@ashleighjoy.com
DTSTART;TZID=America/New_York:20260426T093000
DTEND;TZID=America/New_York:20260426T103000
DTSTAMP:20260330T204116Z
URL:https://ashleighjoy.com/classes/zumba-step-zumba-mix/
SUMMARY:Zumba Step + Zumba Mix
DESCRIPTION:\n\n\n\nFuse hypnotic Latin rhythms and easy-to-follow moves to
  create a high energy\, calorie blasting\, total body dance based workout 
 designed to tone your body from head to toe. It's fitness made fun. First 
 half of the class involves a step and the second half is the Zumba you kno
 w and love.\nMy focus as your instructor is to help you have the best clas
 s possible and to LOVE the time you spend in class. I always lead my class
 es with easy-to-follow cues and a welcoming\, no-pressure environment. My 
 Zumba class is open to all fitness levels and I strive to show multiple sw
 itch-outs for all moves. We do get a great workout\, so don't forget to br
 ing water\, a towel\, a mat\, and your energy!\n\n\n\n\n
ATTACH;FMTTYPE=image/jpeg:https://ashleighjoy.com/wp-content/uploads/2021/
 06/Zumba-Logo_Primary_Horizontal.png
CATEGORIES:Zumba
LOCATION:Dartmouth Total Fitness\, 360 Faunce Corner Road\, Dartmouth\, MA\
 , 02747\, United States
X-APPLE-STRUCTURED-LOCATION;VALUE=URI;X-ADDRESS=360 Faunce Corner Road\, Da
 rtmouth\, MA\, 02747\, United States;X-APPLE-RADIUS=100;X-TITLE=Dartmouth 
 Total Fitness:geo:0,0
END:VEVENT
BEGIN:VTIMEZONE
TZID:America/New_York
X-LIC-LOCATION:America/New_York
BEGIN:DAYLIGHT
DTSTART:20260308T030000
TZOFFSETFROM:-0500
TZOFFSETTO:-0400
TZNAME:EDT
END:DAYLIGHT
END:VTIMEZONE
END:VCALENDAR